BEGIN:VCALENDAR
VERSION:2.0
PRODID:-//time.now/holidays//NONSGML v1.0//EN
BEGIN:VEVENT
UID:0b62abf7-c1b7-4340-ba9d-62b830317955
DTSTAMP:20260422T150324Z
DTSTART;VALUE=DATE:20240410
SUMMARY:Eid al-Fitr (Uzbekistán)
END:VEVENT
END:VCALENDAR