BEGIN:VCALENDAR
VERSION:2.0
PRODID:-//time.now/holidays//NONSGML v1.0//EN
BEGIN:VEVENT
UID:acb6e871-ecc0-4457-bec9-51402e356a50
DTSTAMP:20260422T193222Z
DTSTART;VALUE=DATE:20230628
SUMMARY:Eid al-Adha (Uzbekistán)
END:VEVENT
END:VCALENDAR