BEGIN:VCALENDAR
VERSION:2.0
PRODID:-//time.now/holidays//NONSGML v1.0//EN
BEGIN:VEVENT
UID:ad835cbd-3d0d-42cb-ad3b-1199568f1fd7
DTSTAMP:20260422T091553Z
DTSTART;VALUE=DATE:20241230
SUMMARY:Day off (substituted from 12/14/2024) (Uzbekistán)
END:VEVENT
END:VCALENDAR