BEGIN:VCALENDAR
VERSION:2.0
PRODID:-//time.now/holidays//NONSGML v1.0//EN
BEGIN:VEVENT
UID:d89b3fb9-61ac-42e8-b0cc-2b88ba4bb544
DTSTAMP:20260420T165305Z
DTSTART;VALUE=DATE:20210721
SUMMARY:Day off (substituted from 07/17/2021) (Uzbekistán)
END:VEVENT
END:VCALENDAR