BEGIN:VCALENDAR
VERSION:2.0
PRODID:-//time.now/holidays//NONSGML v1.0//EN
BEGIN:VEVENT
UID:62672c5f-514f-4fb5-949d-271e15924feb
DTSTAMP:20260422T091258Z
DTSTART;VALUE=DATE:20240412
SUMMARY:Day off (substituted from 04/13/2024) (Uzbekistán)
END:VEVENT
END:VCALENDAR