BEGIN:VCALENDAR
VERSION:2.0
PRODID:-//time.now/holidays//NONSGML v1.0//EN
BEGIN:VEVENT
UID:1070a645-99f9-46f9-8f1e-231583b00b82
DTSTAMP:20260420T111006Z
DTSTART;VALUE=DATE:20210322
SUMMARY:Day off (substituted from 03/27/2021) (Uzbekistán)
END:VEVENT
END:VCALENDAR