BEGIN:VCALENDAR
VERSION:2.0
PRODID:-//time.now/holidays//NONSGML v1.0//EN
BEGIN:VEVENT
UID:fe6db4bc-6e99-44e3-a854-edb20e9f5efd
DTSTAMP:20260422T091001Z
DTSTART;VALUE=DATE:20240102
SUMMARY:Day off (substituted from 01/06/2024) (Uzbekistán)
END:VEVENT
END:VCALENDAR