BEGIN:VCALENDAR
VERSION:2.0
PRODID:-//time.now/holidays//NONSGML v1.0//EN
BEGIN:VEVENT
UID:05cac964-bd57-4833-9fc2-8a3ad703fe3c
DTSTAMP:20260422T085619Z
DTSTART;VALUE=DATE:20270507
SUMMARY:Truman Day (observed) (Estados Unidos)
END:VEVENT
END:VCALENDAR