BEGIN:VCALENDAR
VERSION:2.0
PRODID:-//time.now/holidays//NONSGML v1.0//EN
BEGIN:VEVENT
UID:b145c5e0-0a8c-482e-9fee-41c47c6d5e84
DTSTAMP:20260420T143857Z
DTSTART;VALUE=DATE:20260331
SUMMARY:Transfer Day (Estados Unidos)
END:VEVENT
END:VCALENDAR