BEGIN:VCALENDAR
VERSION:2.0
PRODID:-//time.now/holidays//NONSGML v1.0//EN
BEGIN:VEVENT
UID:fb6c1891-2c58-4b30-86f9-650cd19bcbc0
DTSTAMP:20260422T123911Z
DTSTART;VALUE=DATE:20280327
SUMMARY:Prince Jonah Kuhio Kalanianaole Day (observed) (Estados Unidos)
END:VEVENT
END:VCALENDAR