BEGIN:VCALENDAR
VERSION:2.0
PRODID:-//time.now/holidays//NONSGML v1.0//EN
BEGIN:VEVENT
UID:d1c4db7d-5d3a-448b-956d-322ec9cd298a
DTSTAMP:20260422T094602Z
DTSTART;VALUE=DATE:20260216
SUMMARY:Presidents' Day (Estados Unidos)
END:VEVENT
END:VCALENDAR