BEGIN:VCALENDAR
VERSION:2.0
PRODID:-//time.now/holidays//NONSGML v1.0//EN
BEGIN:VEVENT
UID:2483e95a-4db2-4c4d-846c-48fb029ba15f
DTSTAMP:20260422T090815Z
DTSTART;VALUE=DATE:20260724
SUMMARY:Pioneer Day (Estados Unidos)
END:VEVENT
END:VCALENDAR