BEGIN:VCALENDAR
VERSION:2.0
PRODID:-//time.now/holidays//NONSGML v1.0//EN
BEGIN:VEVENT
UID:10ec303e-1143-43d6-8192-746b5e201e5f
DTSTAMP:20260422T091930Z
DTSTART;VALUE=DATE:20331230
SUMMARY:New Year's Eve (observed) (Estados Unidos)
END:VEVENT
END:VCALENDAR