BEGIN:VCALENDAR
VERSION:2.0
PRODID:-//time.now/holidays//NONSGML v1.0//EN
BEGIN:VEVENT
UID:af6fb16a-2831-4687-b165-ea0e2e17d970
DTSTAMP:20260422T091527Z
DTSTART;VALUE=DATE:20271231
SUMMARY:New Year's Day (observed) (Estados Unidos)
END:VEVENT
END:VCALENDAR