BEGIN:VCALENDAR
VERSION:2.0
PRODID:-//time.now/holidays//NONSGML v1.0//EN
BEGIN:VEVENT
UID:c1d120a2-c61f-4df1-98e4-aae7366176e9
DTSTAMP:20260420T195220Z
DTSTART;VALUE=DATE:20260217
SUMMARY:Mardi Gras (Estados Unidos)
END:VEVENT
END:VCALENDAR