BEGIN:VCALENDAR
VERSION:2.0
PRODID:-//time.now/holidays//NONSGML v1.0//EN
BEGIN:VEVENT
UID:dfb4f207-82ca-41c6-8a0f-50101d78e6dd
DTSTAMP:20260422T091058Z
DTSTART;VALUE=DATE:20260827
SUMMARY:Lyndon Baines Johnson Day (Estados Unidos)
END:VEVENT
END:VCALENDAR