BEGIN:VCALENDAR
VERSION:2.0
PRODID:-//time.now/holidays//NONSGML v1.0//EN
BEGIN:VEVENT
UID:8e8fff5b-158f-4471-ac6e-3848a3e86e02
DTSTAMP:20260420T171904Z
DTSTART;VALUE=DATE:20260704
SUMMARY:Independence Day (Estados Unidos)
END:VEVENT
END:VCALENDAR