BEGIN:VCALENDAR
VERSION:2.0
PRODID:-//time.now/holidays//NONSGML v1.0//EN
BEGIN:VEVENT
UID:e4a5a35d-aaf8-42b1-9a64-9c0f3eb3fa1c
DTSTAMP:20260420T204942Z
DTSTART;VALUE=DATE:20260703
SUMMARY:Independence Day (observed) (Estados Unidos)
END:VEVENT
END:VCALENDAR