BEGIN:VCALENDAR
VERSION:2.0
PRODID:-//time.now/holidays//NONSGML v1.0//EN
BEGIN:VEVENT
UID:b82aecbe-b895-41bc-95af-929f75249e6d
DTSTAMP:20260420T160013Z
DTSTART;VALUE=DATE:20290120
SUMMARY:Inauguration Day (Estados Unidos)
END:VEVENT
END:VCALENDAR