BEGIN:VCALENDAR
VERSION:2.0
PRODID:-//time.now/holidays//NONSGML v1.0//EN
BEGIN:VEVENT
UID:6a1e81b0-f1a0-4b8d-9b64-3958fbff488f
DTSTAMP:20260422T104037Z
DTSTART;VALUE=DATE:20250120
SUMMARY:Inauguration Day; Martin Luther King Jr. Day (Estados Unidos)
END:VEVENT
END:VCALENDAR