BEGIN:VCALENDAR
VERSION:2.0
PRODID:-//time.now/holidays//NONSGML v1.0//EN
BEGIN:VEVENT
UID:73cc9827-76ca-4b6a-ae87-f4968898e49f
DTSTAMP:20260420T194849Z
DTSTART;VALUE=DATE:20260402
SUMMARY:Holy Thursday (Estados Unidos)
END:VEVENT
END:VCALENDAR