BEGIN:VCALENDAR
VERSION:2.0
PRODID:-//time.now/holidays//NONSGML v1.0//EN
BEGIN:VEVENT
UID:d2b91d4c-bcb3-4491-b3cb-d7ce23645166
DTSTAMP:20260420T193826Z
DTSTART;VALUE=DATE:20290319
SUMMARY:Evacuation Day (observed) (Estados Unidos)
END:VEVENT
END:VCALENDAR