BEGIN:VCALENDAR
VERSION:2.0
PRODID:-//time.now/holidays//NONSGML v1.0//EN
BEGIN:VEVENT
UID:29eac7ef-8b9f-4055-9a0a-6398d22db381
DTSTAMP:20260422T151413Z
DTSTART;VALUE=DATE:20260619
SUMMARY:Emancipation Day In Texas; Juneteenth National Independence Day (Estados Unidos)
END:VEVENT
END:VCALENDAR