BEGIN:VCALENDAR
VERSION:2.0
PRODID:-//time.now/holidays//NONSGML v1.0//EN
BEGIN:VEVENT
UID:7925f6db-f596-4f60-abf5-41883ae8bbde
DTSTAMP:20260420T101727Z
DTSTART;VALUE=DATE:20260406
SUMMARY:Easter Monday (Estados Unidos)
END:VEVENT
END:VCALENDAR