BEGIN:VCALENDAR
VERSION:2.0
PRODID:-//time.now/holidays//NONSGML v1.0//EN
BEGIN:VEVENT
UID:e97738da-90e6-4be4-b65a-20b622d64520
DTSTAMP:20260422T122731Z
DTSTART;VALUE=DATE:20331226
SUMMARY:Christmas Day (observed); Day After Christmas (Estados Unidos)
END:VEVENT
END:VCALENDAR