BEGIN:VCALENDAR
VERSION:2.0
PRODID:-//time.now/holidays//NONSGML v1.0//EN
BEGIN:VEVENT
UID:a6af6d1f-3d22-4da1-83bc-572a88ae2029
DTSTAMP:20260422T223832Z
DTSTART;VALUE=DATE:20260816
SUMMARY:Bennington Battle Day (Estados Unidos)
END:VEVENT
END:VCALENDAR