BEGIN:VCALENDAR
VERSION:2.0
PRODID:-//time.now/holidays//NONSGML v1.0//EN
BEGIN:VEVENT
UID:b33eb61b-2b1e-47f4-8d07-9e2eb97e3916
DTSTAMP:20260422T091054Z
DTSTART;VALUE=DATE:20260817
SUMMARY:Bennington Battle Day (observed) (Estados Unidos)
END:VEVENT
END:VCALENDAR