BEGIN:VCALENDAR
VERSION:2.0
PRODID:-//time.now/holidays//NONSGML v1.0//EN
BEGIN:VEVENT
UID:7ffbb38c-380b-4d6d-b64c-616417ce2343
DTSTAMP:20260422T085111Z
DTSTART;VALUE=DATE:20261019
SUMMARY:Alaska Day (observed) (Estados Unidos)
END:VEVENT
END:VCALENDAR