BEGIN:VCALENDAR
VERSION:2.0
PRODID:-//time.now/holidays//NONSGML v1.0//EN
BEGIN:VEVENT
UID:38f25548-108e-4b31-94c9-8b0436fe0946
DTSTAMP:20260420T230902Z
DTSTART;VALUE=DATE:20261111
SUMMARY:Veterans Day (Islas menores alejadas de Estados Unidos)
END:VEVENT
END:VCALENDAR