BEGIN:VCALENDAR
VERSION:2.0
PRODID:-//time.now/holidays//NONSGML v1.0//EN
BEGIN:VEVENT
UID:298e9892-e04b-4eb3-aab8-bdb7166d56cc
DTSTAMP:20260420T230901Z
DTSTART;VALUE=DATE:20260525
SUMMARY:Memorial Day (Islas menores alejadas de Estados Unidos)
END:VEVENT
END:VCALENDAR