BEGIN:VCALENDAR
VERSION:2.0
PRODID:-//time.now/holidays//NONSGML v1.0//EN
BEGIN:VEVENT
UID:5864acdf-5855-45f8-b504-93c209d1332a
DTSTAMP:20260421T005446Z
DTSTART;VALUE=DATE:20260119
SUMMARY:Martin Luther King Jr. Day (Islas menores alejadas de Estados Unidos)
END:VEVENT
END:VCALENDAR