BEGIN:VCALENDAR
VERSION:2.0
PRODID:-//time.now/holidays//NONSGML v1.0//EN
BEGIN:VEVENT
UID:d5514b97-d349-4aa1-b12f-d4032da35160
DTSTAMP:20260422T103915Z
DTSTART;VALUE=DATE:20260619
SUMMARY:Juneteenth National Independence Day (Islas menores alejadas de Estados Unidos)
END:VEVENT
END:VCALENDAR