BEGIN:VCALENDAR
VERSION:2.0
PRODID:-//time.now/holidays//NONSGML v1.0//EN
BEGIN:VEVENT
UID:433b8aa8-f928-45f9-b8ab-257827e1782a
DTSTAMP:20260422T121304Z
DTSTART;VALUE=DATE:20270618
SUMMARY:Juneteenth National Independence Day (observed) (Islas menores alejadas de Estados Unidos)
END:VEVENT
END:VCALENDAR