BEGIN:VCALENDAR
VERSION:2.0
PRODID:-//time.now/holidays//NONSGML v1.0//EN
BEGIN:VEVENT
UID:c8b61815-8c48-441e-a010-0a63c2450b68
DTSTAMP:20260422T092905Z
DTSTART;VALUE=DATE:20260803
SUMMARY:Summer Bank Holiday (Reino Unido)
END:VEVENT
END:VCALENDAR