BEGIN:VCALENDAR
VERSION:2.0
PRODID:-//time.now/holidays//NONSGML v1.0//EN
BEGIN:VEVENT
UID:44776e72-249d-4e33-b462-b907be63f6fd
DTSTAMP:20260422T085659Z
DTSTART;VALUE=DATE:20260525
SUMMARY:Spring Bank Holiday (Reino Unido)
END:VEVENT
END:VCALENDAR