BEGIN:VCALENDAR
VERSION:2.0
PRODID:-//time.now/holidays//NONSGML v1.0//EN
BEGIN:VEVENT
UID:a298d12b-58b5-4f09-85d8-fcf5bcd5ef2f
DTSTAMP:20260420T092718Z
DTSTART;VALUE=DATE:20260406
SUMMARY:Easter Monday (Reino Unido)
END:VEVENT
END:VCALENDAR