BEGIN:VCALENDAR
VERSION:2.0
PRODID:-//time.now/holidays//NONSGML v1.0//EN
BEGIN:VEVENT
UID:66734474-d1e9-4122-b15f-e8952f6781df
DTSTAMP:20260422T085859Z
DTSTART;VALUE=DATE:20260101
SUMMARY:New Year's Day (Emiratos Árabes Unidos)
END:VEVENT
END:VCALENDAR