BEGIN:VCALENDAR
VERSION:2.0
PRODID:-//time.now/holidays//NONSGML v1.0//EN
BEGIN:VEVENT
UID:d9bb3336-2846-4dd0-b46c-6d1bb8c685e8
DTSTAMP:20260422T151512Z
DTSTART;VALUE=DATE:20261202
SUMMARY:National Day (Emiratos Árabes Unidos)
END:VEVENT
END:VCALENDAR