BEGIN:VCALENDAR
VERSION:2.0
PRODID:-//time.now/holidays//NONSGML v1.0//EN
BEGIN:VEVENT
UID:8ed366f3-aa13-4d25-bad5-36664718ffcc
DTSTAMP:20260422T091039Z
DTSTART;VALUE=DATE:20260616
SUMMARY:Islamic New Year (estimated) (Emiratos Árabes Unidos)
END:VEVENT
END:VCALENDAR