BEGIN:VCALENDAR
VERSION:2.0
PRODID:-//time.now/holidays//NONSGML v1.0//EN
BEGIN:VEVENT
UID:2434eb93-e4cb-46b3-abfa-55dd514c8135
DTSTAMP:20260420T230902Z
DTSTART;VALUE=DATE:20260321
SUMMARY:Eid al-Fitr Holiday (estimated) (Emiratos Árabes Unidos)
END:VEVENT
END:VCALENDAR