BEGIN:VCALENDAR
VERSION:2.0
PRODID:-//time.now/holidays//NONSGML v1.0//EN
BEGIN:VEVENT
UID:a7573b0c-cb27-46da-b449-70a41a38a6da
DTSTAMP:20260422T085753Z
DTSTART;VALUE=DATE:20260527
SUMMARY:Eid al-Adha (estimated) (Emiratos Árabes Unidos)
END:VEVENT
END:VCALENDAR