BEGIN:VCALENDAR
VERSION:2.0
PRODID:-//time.now/holidays//NONSGML v1.0//EN
BEGIN:VEVENT
UID:af11aecd-a268-4d65-b3f5-a3875d8fae40
DTSTAMP:20260420T204056Z
DTSTART;VALUE=DATE:20250603
SUMMARY:Arafat Day (Emiratos Árabes Unidos)
END:VEVENT
END:VCALENDAR