BEGIN:VCALENDAR
VERSION:2.0
PRODID:-//time.now/holidays//NONSGML v1.0//EN
BEGIN:VEVENT
UID:e6cd2c26-40ce-4a4d-b559-14bd69c5fa7b
DTSTAMP:20260422T115400Z
DTSTART;VALUE=DATE:20260526
SUMMARY:Arafat Day (estimated) (Emiratos Árabes Unidos)
END:VEVENT
END:VCALENDAR