BEGIN:VCALENDAR
VERSION:2.0
PRODID:-//time.now/holidays//NONSGML v1.0//EN
BEGIN:VEVENT
UID:bd3a5bb4-4e37-4a20-ba1d-6dfea49ab2b4
DTSTAMP:20260420T081015Z
DTSTART;VALUE=DATE:20210503
SUMMARY:Labor Day (observed) (Ucrania)
END:VEVENT
END:VCALENDAR