BEGIN:VCALENDAR
VERSION:2.0
PRODID:-//time.now/holidays//NONSGML v1.0//EN
BEGIN:VEVENT
UID:bee22245-3fd7-4336-82a1-033ef9ebbd40
DTSTAMP:20260420T210623Z
DTSTART;VALUE=DATE:20220307
SUMMARY:Day off (substituted from 03/12/2022) (Ucrania)
END:VEVENT
END:VCALENDAR