BEGIN:VCALENDAR
VERSION:2.0
PRODID:-//time.now/holidays//NONSGML v1.0//EN
BEGIN:VEVENT
UID:a8ef776e-034e-469b-a93f-f7dcbbf7d260
DTSTAMP:20260420T205938Z
DTSTART;VALUE=DATE:20260106
SUMMARY:Three Kings Day (Islas Vírgenes de EE. UU.)
END:VEVENT
END:VCALENDAR