BEGIN:VCALENDAR
VERSION:2.0
PRODID:-//time.now/holidays//NONSGML v1.0//EN
BEGIN:VEVENT
UID:66a97058-06a6-4236-908d-1cb5350d32f5
DTSTAMP:20260422T134409Z
DTSTART;VALUE=DATE:20260101
SUMMARY:New Year's Day (Islas Vírgenes de EE. UU.)
END:VEVENT
END:VCALENDAR