BEGIN:VCALENDAR
VERSION:2.0
PRODID:-//time.now/holidays//NONSGML v1.0//EN
BEGIN:VEVENT
UID:0e9ff65a-58ec-4ff2-8532-27f9ac44f2e2
DTSTAMP:20260422T091258Z
DTSTART;VALUE=DATE:20271231
SUMMARY:New Year's Day (observed) (Islas Vírgenes de EE. UU.)
END:VEVENT
END:VCALENDAR