BEGIN:VCALENDAR
VERSION:2.0
PRODID:-//time.now/holidays//NONSGML v1.0//EN
BEGIN:VEVENT
UID:6beb13bc-3789-4061-b3de-39def2321af3
DTSTAMP:20260422T101738Z
DTSTART;VALUE=DATE:20260119
SUMMARY:Martin Luther King Jr. Day (Islas Vírgenes de EE. UU.)
END:VEVENT
END:VCALENDAR