BEGIN:VCALENDAR
VERSION:2.0
PRODID:-//time.now/holidays//NONSGML v1.0//EN
BEGIN:VEVENT
UID:371c5087-1d04-4ef7-8d1a-d84b0d0a39dd
DTSTAMP:20260420T195727Z
DTSTART;VALUE=DATE:20261226
SUMMARY:Christmas Second Day (Islas Vírgenes de EE. UU.)
END:VEVENT
END:VCALENDAR